BEGIN:VCALENDAR
VERSION:2.0
PRODID:-//KHEA - ECPv6.15.20//NONSGML v1.0//EN
CALSCALE:GREGORIAN
METHOD:PUBLISH
X-WR-CALNAME:KHEA
X-ORIGINAL-URL:https://khea-africa.org
X-WR-CALDESC:Events for KHEA
REFRESH-INTERVAL;VALUE=DURATION:PT1H
X-Robots-Tag:noindex
X-PUBLISHED-TTL:PT1H
BEGIN:VTIMEZONE
TZID:UTC
BEGIN:STANDARD
TZOFFSETFROM:+0000
TZOFFSETTO:+0000
TZNAME:UTC
DTSTART:20220101T000000
END:STANDARD
END:VTIMEZONE
BEGIN:VEVENT
DTSTART;VALUE=DATE:20240308
DTEND;VALUE=DATE:20240309
DTSTAMP:20260422T221959
CREATED:20240307T052921Z
LAST-MODIFIED:20240307T052921Z
UID:2354-1709856000-1709942399@khea-africa.org
SUMMARY:Farmer Market Day in commemoration of the #InternationalWomensDay2024
DESCRIPTION:Topic: Empower women & girls in resilient & sustainable food production\n\nRwanda Organic Agriculture Movement (ROAM) through the KCOA-KHEA Project has organised a Farmer Market Day in commemoration of the #InternationalWomensDay2024 slated for 8th March at Kimronko Market. \nThe theme is to Empower women & girls in resilient & sustainable food production. There will be many organic products available for sale. Don’t Miss!!!
URL:https://khea-africa.org/event/farmer-market-day-in-commemoration-of-the-internationalwomensday2024/
LOCATION:Kimronko\, KG 194 St\, Kigali\, Rwanda
ATTACH;FMTTYPE=image/jpeg:https://khea-africa.org/wp-content/uploads/2024/03/WhatsApp-Image-2024-03-06-at-14.52.02.jpeg
END:VEVENT
BEGIN:VEVENT
DTSTART;TZID=UTC:20240301T100000
DTEND;TZID=UTC:20240301T120000
DTSTAMP:20260422T221959
CREATED:20240228T090132Z
LAST-MODIFIED:20240228T090132Z
UID:2333-1709287200-1709294400@khea-africa.org
SUMMARY:PELUM Uganda webinar
DESCRIPTION:Topic: Roots of Ecological Organic Agriculture Sustainability: Cultivating Resilience through Soil and Water Conservation\n\nSoil and water are particularly important in nutrient management. In addition to sustaining all life on Earth\, soil and water provide a pool of dissolved nutrients that are readily available for plant uptake. Therefore\, it is important to maintain proper levels of soil moisture. Tune in this Friday 1st March 2024 via zoom. To be part of the webinar that has been organised by PELUM Uganda\, \nSee Link: https://us02web.zoom.us/j/82060814339?pwd=d0NxRVloUlVRc05aRTZkdHc3eHA4UT09 \nMeeting ID and code (Meeting ID: 820 6081 4339 / Passcode: 405737). \nThe session will be facilitated by KHEA Master Trainers– Robert Guloba from PELUM Uganda and Florence Ddumba from Kulika Uganda. Don’t Miss!!!
URL:https://khea-africa.org/event/pelum-uganda-webinar/
ATTACH;FMTTYPE=image/jpeg:https://khea-africa.org/wp-content/uploads/2024/02/PELUM-Uganda-Webinar.jpeg
END:VEVENT
BEGIN:VEVENT
DTSTART;TZID=UTC:20240229T100000
DTEND;TZID=UTC:20240229T120000
DTSTAMP:20260422T221959
CREATED:20240221T120102Z
LAST-MODIFIED:20240228T085614Z
UID:2202-1709200800-1709208000@khea-africa.org
SUMMARY:Online Refresher Webnar - Soil is AWomb
DESCRIPTION:Topic: Soil Is AWomb\n\nSoil puts food on our plates\, purifies our water\, protects us against flooding and combats drought. It’s also key to tackling climate change as it captures and stores vast amounts of carbon. There is no food security without healthy soils \nTune in next Friday 1st March 2024 via zoom and the PELUM Kenya social media handles. \nRegister here for the webnar Zoom Link: \nhttps://ee.kobotoolbox.org/x/TSeXwhbV \norganized by PELUM Kenya KHEA Master Trainer– Samuel Nderitu. Don’t Miss!!!
URL:https://khea-africa.org/event/online-refresher-webnar-soil-is-awomb/
ATTACH;FMTTYPE=image/jpeg:https://khea-africa.org/wp-content/uploads/2024/02/PELUM-Kenya-webinar.jpg
END:VEVENT
BEGIN:VEVENT
DTSTART;TZID=UTC:20240216T100000
DTEND;TZID=UTC:20240216T120000
DTSTAMP:20260422T221959
CREATED:20240214T081735Z
LAST-MODIFIED:20240214T081735Z
UID:2169-1708077600-1708084800@khea-africa.org
SUMMARY:Online Refresher Webnar - From Bean to Bunch: Sustainable strategies for Banana and Coffee Production
DESCRIPTION:Topic: From Bean to Bunch: Sustainable strategies for Banana and Coffee Production\n\nGrowing bananas in young coffee plantations also ensures that the farmer gets some returns from the land before the coffee reaches the productive stage. Intercropping banana with coffee is usually more profitable and resilient than the production of either crop grown as monocrops. The Webnar is organised by PELUM Uganda KHEA Master Trainers – Robert Guloba and Kabuye Margaret. \nDon’t Miss!! \nTune in this Friday16th February 2024 via zoom \nJoin in the zoom via this link https://us04web.zoom.us/join \nMeeting ID:837 8076 7055 \nPasscode: 956110
URL:https://khea-africa.org/event/online-refresher-webnar-from-bean-to-bunch-sustainable-strategies-for-banana-and-coffee-production/
ATTACH;FMTTYPE=image/jpeg:https://khea-africa.org/wp-content/uploads/2024/02/WhatsApp-Image-2024-02-13-at-18.02.50.jpeg
END:VEVENT
BEGIN:VEVENT
DTSTART;VALUE=DATE:20240213
DTEND;VALUE=DATE:20240217
DTSTAMP:20260422T221959
CREATED:20240130T145541Z
LAST-MODIFIED:20240130T150418Z
UID:1989-1707782400-1708127999@khea-africa.org
SUMMARY:BIOFACH - World´s Leading Trade Fair for Organic Food
DESCRIPTION:THEME:FOOD FOR THE FUTURE: WOMEN’S IMPACT ON SUSTAINABLE FOOD SYSTEMS\n\nFrom February 13 – 16\, 2024\, the organic community will meet again in Nuremberg at the World’s Leading Trade Fair for Organic Food. Regional\, national and international stakeholders from the entire value chain will meet here – people who share the same values and are joining forces to forge a more sustainable future. And you can experience this journey using all of your senses here: discover a diverse programme and a wide range of offers that invite you to see\, hear\, smell\, taste and feel – a space for ideas\, inspiration and enjoyment\, in a world of experience and possibilities. \nFind out everything you need to know about the latest developments in the industry of organic agriculture and agroecology sector by interfacing and interacting with the GIZ team on the Knowledge Centre for Organic Agriculture and Agroecology in Africa (KCOA) Project as the Knowledge Hub for Organic Agriculture and Agroecology in Eastern Africa (KHEA) hub will be present in Nuremberg Germany from 13 – 16\, 2024. \nMeet like-minded people and expand your network and knowledge on organic agriculture and agroecology. Be there\, experience it! \nTo learn more about the event\, Registrations and exhibitions\, visit the event website: https://www.biofach.de/en
URL:https://khea-africa.org/event/biofach-worlds-leading-trade-fair-for-organic-food/
LOCATION:Nuremberg Exhibition Centre – Germany\, nuremberg\, Germany
ATTACH;FMTTYPE=image/jpeg:https://khea-africa.org/wp-content/uploads/2024/01/423312251_418344864058611_2219614780780774577_n.jpg
END:VEVENT
BEGIN:VEVENT
DTSTART;TZID=UTC:20240209T100000
DTEND;TZID=UTC:20240209T120000
DTSTAMP:20260422T221959
CREATED:20240205T091630Z
LAST-MODIFIED:20240205T091630Z
UID:2125-1707472800-1707480000@khea-africa.org
SUMMARY:Online Refresher Webnar - Plant Nutrition and Health Soil Management
DESCRIPTION:Topic: Plant Nutrition and Health Soil Management\n\nPlant Nutrition and Health Soils Management involves diverse factors like nutrient levels\, pH\, structure\, and ability to support plants and ecosystems. Assessing soil health needs a comprehensive approach using various indicators to get a full picture. This is vital for informed decisions in farming and environmental.The webnar is organised by PELUM Uganda KHEA Master Trainers – Robert Guloba and Faizo Wasswa. \nDon’t Miss!!! \nTune in this Friday 9th February 2024 via zoom \nJoin in the zoom via this link https://us04web.zoom.us/join \nMeeting ID:875 3962 9596 \nPasscode: 278614
URL:https://khea-africa.org/event/online-refresher-webnar-plant-nutrition-and-health-soil-management/
ATTACH;FMTTYPE=image/jpeg:https://khea-africa.org/wp-content/uploads/2024/02/Online-REFRESHER-WEBINAR-14.jpg
END:VEVENT
BEGIN:VEVENT
DTSTART;TZID=UTC:20240202T000000
DTEND;TZID=UTC:20240202T235900
DTSTAMP:20260422T221959
CREATED:20240131T121627Z
LAST-MODIFIED:20240131T122822Z
UID:2008-1706832000-1706918340@khea-africa.org
SUMMARY:Online Refresher Webnar - Crop Health Management
DESCRIPTION:Topic:Crop Health Management\n\nCrop management is the set of agricultural practices performed to improve the growth\, development and yield of crops. It begins with a seedbed preparation\, sowing of seeds and crop maintenance; and ends with crop harvest\, storage and marketing. Tune in this Friday 2nd February 2024 via zoom  organised by PELUM Uganda KHEA Master Trainers – Robert Guloba and Aringo James. Don’t Miss!!! \nJoin in the zoom via this link https://us04web.zoom.us/join \nMeeting ID: 865 4498 0469/ \nPasscode: 660309
URL:https://khea-africa.org/event/online-refresher-webnar-crop-health-management/
ATTACH;FMTTYPE=image/jpeg:https://khea-africa.org/wp-content/uploads/2024/01/WhatsApp-Image-2024-01-29-at-13.35.52.jpeg
END:VEVENT
BEGIN:VEVENT
DTSTART;VALUE=DATE:20231212
DTEND;VALUE=DATE:20231216
DTSTAMP:20260422T221959
CREATED:20231211T073923Z
LAST-MODIFIED:20231211T073923Z
UID:1514-1702339200-1702684799@khea-africa.org
SUMMARY:5th AFRICAN ORGANIC CONFERENCE
DESCRIPTION:THEME: \nStrengthening Resilient and Sustainable Food Systems in Africa through Organic Agriculture\nThe African Organic Network (AfrONet)\, an umbrella body of organic agriculture actors in Africa representing the National and Regional Organic Agriculture Movements (NOAMs/ROAMs) is organizing the 5th African Organic Conference (AOC) in Kigali\, Rwanda for four (4) days from December 12 – 15\, 2023 in collaboration with the organic agriculture actors in Africa\, the African Union Commission and other strategic organizations outside Africa. The event shall be concluded with the General Assembly of the Network. \nThe AOC is held every 3 years. The 4th AOC was held in November 2018 at Sally\, Senegal. The 3rd AOC was held in Lagos\, Nigeria in October 2015. The 2nd AOC was in Lusaka\, Zambia in May 2012 while the 1st AOC was held in Kampala\, Uganda in 2009. The 5th AOC (5AOC) which was scheduled to be held in Marrakesh\, Morocco in November 2021\, could not be convened due to circumstances beyond our control. Enforcing the resolution of the 4th AOC\, the Board of AfrONet gave Rwanda Organic Agriculture Movement (ROAM)\, as a run-up to FIMABio of Morocco to host the 5th AOC. At an Extraordinary virtual General Assembly of AfrONet members in March 2023\, the 5th AOC was rescheduled to hold in Kigali\, Rwanda from 12 – 15 December 2023. Rwanda Organic Agriculture Movement is hosting the event in Rwanda on behalf of AfrONet in both physical and virtual modes.
URL:https://khea-africa.org/event/5th-african-organic-conference/
LOCATION:Marriott Hotel\, Rwanda
ATTACH;FMTTYPE=image/jpeg:https://khea-africa.org/wp-content/uploads/2023/12/WhatsApp-Image-2023-12-06-at-16.03.14.jpeg
END:VEVENT
END:VCALENDAR