BEGIN:VCALENDAR
VERSION:2.0
PRODID:-//KHEA - ECPv6.15.20//NONSGML v1.0//EN
CALSCALE:GREGORIAN
METHOD:PUBLISH
X-ORIGINAL-URL:https://khea-africa.org
X-WR-CALDESC:Events for KHEA
REFRESH-INTERVAL;VALUE=DURATION:PT1H
X-Robots-Tag:noindex
X-PUBLISHED-TTL:PT1H
BEGIN:VTIMEZONE
TZID:UTC
BEGIN:STANDARD
TZOFFSETFROM:+0000
TZOFFSETTO:+0000
TZNAME:UTC
DTSTART:20230101T000000
END:STANDARD
END:VTIMEZONE
BEGIN:VEVENT
DTSTART;TZID=UTC:20241023T000000
DTEND;TZID=UTC:20241031T235900
DTSTAMP:20260422T110226
CREATED:20241011T091836Z
LAST-MODIFIED:20241011T091836Z
UID:3171-1729641600-1730419140@khea-africa.org
SUMMARY:KCOA Network Meeting 2024!
DESCRIPTION:  \nJoin us for the KCOA Network Meeting 2024! This year\, we’re excited to bring together our global community for a dynamic event filled with meaningful discussions and collaborations. \nEvent Details: \n\n\n\nOnline Sessions: October 23-24\, 11 a.m. – 2 p.m. (CEST)\nIn-Person Meetings: October 28-31 in Cape Town\, South Africa\nHybrid Conclusion: October 31\, connecting online and in-person participants\n\n\n\nDon’t miss this opportunity to celebrate our journey and shape the future of our network together. Save the date and be part of the conversation! \n  \n#KCOANetwork #Networking #Sustainability #SaveTheDate #GlobalCommunity
URL:https://khea-africa.org/event/kcoa-network-meeting-2024/
ATTACH;FMTTYPE=image/jpeg:https://khea-africa.org/wp-content/uploads/2024/10/Save-the-date-2024-EN.jpg
END:VEVENT
END:VCALENDAR